BEGIN:VCALENDAR
VERSION:2.0
PRODID:Central Valley Fire District Calendar Creator
METHOD:PUBLISH
BEGIN:VEVENT
DTSTAMP:20260408T103616
DTSTART:20260414T173000
DTEND:20260414T183000
SUMMARY:CVFD Monthly Board Meeting
DESCRIPTION:<p style="text-align: center;">The Central Valley Fire District Board of Trustees will hold their April 2026 Meeting at Station 2 on Tuesday, April 14th. </p><p style="text-align: center;">Traditionally, these meetings are held at our main fire station, but as part of our outreach to the communities that we serve, this month’s meeting will take place at Station 2 on Springhill Road. If this is well received, we plan to rotate future Board meetings to other CVFD stations. It is our hope that this will encourage community members from different areas of our District to attend board meetings and provide an opportunity to become familiar with the stations in the Central Valley Fire District.</p><p style="text-align: center;">Wherever you reside in the District, you are invited to attend:<br>The Central Valley Fire District Board of Trustees Meeting<br>Date and time: Tuesday, April 14 at 5:30 PM<br>Location: CVFD Fire Station 2, 3650 Springhill Rd., Bozeman, MT 59715</p><p style="text-align: left; margin-left: 40px;">&nbsp; &nbsp; &nbsp;Following the Regular Board Meeting, we will host an Open House for the public from approximately 7:00 PM to 8:00 PM. Community members are welcome to tour the fire station, ask questions, and learn more about CVFD operations.<br>&nbsp; &nbsp; &nbsp;Important Note: There appears to be a misunderstanding circulating about this meeting. It is not regarding the closure of Central Valley Fire District Station 2. This is our regularly scheduled monthly meeting, followed by an Open House to provide an opportunity for open dialogue with our community.<br>&nbsp; &nbsp; &nbsp;During the Board Meeting, please be respectful of the formal Board Meeting process. Please note the Standard of Behavior. Board Meetings are business sessions and are not a forum for open discussion. They typically last 60–90 minutes, after which the Open House will begin.<br>&nbsp; &nbsp; &nbsp;We look forward to every opportunity to connect with members of the community. Please spread the word. We hope to see you there.<br>Regards, JCW</p>
X-ALT-DESC;FMTTYPE=text/html:<p style="text-align: center;">The Central Valley Fire District Board of Trustees will hold their April 2026 Meeting at Station 2 on Tuesday, April 14th. </p><p style="text-align: center;">Traditionally, these meetings are held at our main fire station, but as part of our outreach to the communities that we serve, this month’s meeting will take place at Station 2 on Springhill Road. If this is well received, we plan to rotate future Board meetings to other CVFD stations. It is our hope that this will encourage community members from different areas of our District to attend board meetings and provide an opportunity to become familiar with the stations in the Central Valley Fire District.</p><p style="text-align: center;">Wherever you reside in the District, you are invited to attend:<br>The Central Valley Fire District Board of Trustees Meeting<br>Date and time: Tuesday, April 14 at 5:30 PM<br>Location: CVFD Fire Station 2, 3650 Springhill Rd., Bozeman, MT 59715</p><p style="text-align: left; margin-left: 40px;">&nbsp; &nbsp; &nbsp;Following the Regular Board Meeting, we will host an Open House for the public from approximately 7:00 PM to 8:00 PM. Community members are welcome to tour the fire station, ask questions, and learn more about CVFD operations.<br>&nbsp; &nbsp; &nbsp;Important Note: There appears to be a misunderstanding circulating about this meeting. It is not regarding the closure of Central Valley Fire District Station 2. This is our regularly scheduled monthly meeting, followed by an Open House to provide an opportunity for open dialogue with our community.<br>&nbsp; &nbsp; &nbsp;During the Board Meeting, please be respectful of the formal Board Meeting process. Please note the Standard of Behavior. Board Meetings are business sessions and are not a forum for open discussion. They typically last 60–90 minutes, after which the Open House will begin.<br>&nbsp; &nbsp; &nbsp;We look forward to every opportunity to connect with members of the community. Please spread the word. We hope to see you there.<br>Regards, JCW</p>
LOCATION:Central Valley Fire District Station 2\, 3650 Springhill Road Bozeman\, Montana 59715
CLASS:PUBLIC
END:VEVENT
END:VCALENDAR
